BEGIN:VCALENDAR
VERSION:2.0
PRODID:-//Laicite49 - ECPv6.15.20//NONSGML v1.0//EN
CALSCALE:GREGORIAN
METHOD:PUBLISH
X-ORIGINAL-URL:https://laicite49.fr
X-WR-CALDESC:Évènements pour Laicite49
REFRESH-INTERVAL;VALUE=DURATION:PT1H
X-Robots-Tag:noindex
X-PUBLISHED-TTL:PT1H
BEGIN:VTIMEZONE
TZID:UTC
BEGIN:STANDARD
TZOFFSETFROM:+0000
TZOFFSETTO:+0000
TZNAME:UTC
DTSTART:20200101T000000
END:STANDARD
END:VTIMEZONE
BEGIN:VEVENT
DTSTART;VALUE=DATE:20210929
DTEND;VALUE=DATE:20211002
DTSTAMP:20260423T070710
CREATED:20210916T130009Z
LAST-MODIFIED:20210916T130009Z
UID:2251-1632873600-1633132799@laicite49.fr
SUMMARY:Formation de formateurs
DESCRIPTION:
URL:https://laicite49.fr/event/formation-de-formateurs/
LOCATION:rue Brault\, ANGERS\, France
END:VEVENT
END:VCALENDAR